BEGIN:VCALENDAR
VERSION:2.0
PRODID:-//Shepherd of the Valley - ECPv6.15.20//NONSGML v1.0//EN
CALSCALE:GREGORIAN
METHOD:PUBLISH
X-WR-CALNAME:Shepherd of the Valley
X-ORIGINAL-URL:https://sov.church
X-WR-CALDESC:Events for Shepherd of the Valley
REFRESH-INTERVAL;VALUE=DURATION:PT1H
X-Robots-Tag:noindex
X-PUBLISHED-TTL:PT1H
BEGIN:VTIMEZONE
TZID:America/Chicago
BEGIN:DAYLIGHT
TZOFFSETFROM:-0600
TZOFFSETTO:-0500
TZNAME:CDT
DTSTART:20230312T080000
END:DAYLIGHT
BEGIN:STANDARD
TZOFFSETFROM:-0500
TZOFFSETTO:-0600
TZNAME:CST
DTSTART:20231105T070000
END:STANDARD
BEGIN:DAYLIGHT
TZOFFSETFROM:-0600
TZOFFSETTO:-0500
TZNAME:CDT
DTSTART:20240310T080000
END:DAYLIGHT
BEGIN:STANDARD
TZOFFSETFROM:-0500
TZOFFSETTO:-0600
TZNAME:CST
DTSTART:20241103T070000
END:STANDARD
BEGIN:DAYLIGHT
TZOFFSETFROM:-0600
TZOFFSETTO:-0500
TZNAME:CDT
DTSTART:20250309T080000
END:DAYLIGHT
BEGIN:STANDARD
TZOFFSETFROM:-0500
TZOFFSETTO:-0600
TZNAME:CST
DTSTART:20251102T070000
END:STANDARD
BEGIN:DAYLIGHT
TZOFFSETFROM:-0600
TZOFFSETTO:-0500
TZNAME:CDT
DTSTART:20260308T080000
END:DAYLIGHT
BEGIN:STANDARD
TZOFFSETFROM:-0500
TZOFFSETTO:-0600
TZNAME:CST
DTSTART:20261101T070000
END:STANDARD
BEGIN:DAYLIGHT
TZOFFSETFROM:-0600
TZOFFSETTO:-0500
TZNAME:CDT
DTSTART:20270314T080000
END:DAYLIGHT
BEGIN:STANDARD
TZOFFSETFROM:-0500
TZOFFSETTO:-0600
TZNAME:CST
DTSTART:20271107T070000
END:STANDARD
END:VTIMEZONE
BEGIN:VEVENT
DTSTART;VALUE=DATE:20241210
DTEND;VALUE=DATE:20260601
DTSTAMP:20260421T091938
CREATED:20260105T192615Z
LAST-MODIFIED:20260105T192615Z
UID:10003714-1733788800-1780271999@sov.church
SUMMARY:Serve at Shepherd Shifts
DESCRIPTION:When we serve others in our community\, we grow more like Jesus and practice the Shepherd value of Others First. \nServing the community means joining in our mission to love God and our neighbors by showing care to those outside of Shepherd’s walls. It means coming alongside people and organizations already making a difference in our own communities and beyond to support them in their goal of serving people who are hurting\, under-resourced\, or in need of support. \nWe’re excited to help you go be the Church! Choose from a monthly Shepherd shift at: \n\nUnion Gospel Mission Twin Cities | Located in St. Paul\, UGMTC is a local ministry meeting the needs of many experiencing hardship & serving 3 meals a day\, 365 days a year. Shepherd serves on the first Thursday of each month\, 5:00-7:30pm\nValley Outreach | Located in Stillwater\, Valley Outreach is community-powered nonprofit providing food\, clothing\, and support to people who need help. Shepherd serves on the second Tuesday of each month\, 4:00-7:00pm\nHudson Backpack & Food Program | Located in Hudson\, Hudson Backpack is a food program serving community members in need. Shepherd serves on the third Thursday of the month\, 5:00-7:00pm\nLoaves & Fishes | Located in St. Paul\, Loaves & Fishes serves free\, healthy meals to Minnesotans where the need is the greatest. Shepherd serves on the first Wednesday of each month\, 3:30 or 4:00pm
URL:https://sov.church/featuredevent/serve-at-hosted-shifts-2/
LOCATION:MN
CATEGORIES:Serving
ATTACH;FMTTYPE=image/jpeg:https://sov.church/wp-content/uploads/2024/01/ShepherdShiftsFall2025Connect-100.jpg
ORGANIZER;CN="Caitlin Ronayne":MAILTO:cronayne@sov.church
END:VEVENT
BEGIN:VEVENT
DTSTART;VALUE=DATE:20260203
DTEND;VALUE=DATE:20260422
DTSTAMP:20260421T091938
CREATED:20260108T164959Z
LAST-MODIFIED:20260204T211729Z
UID:10079280-1770076800-1776815999@sov.church
SUMMARY:Spring Women's Bible Study
DESCRIPTION:Starting Tuesday\, February 3 through April 21\, several women’s small groups\, in-person\, virtual and offsite\, will read through a new Bible study by Melissa Spoelstra\, The Gospel of John: Savoring the Peace of Jesus in a Chaotic World.  \n\n\n\nTuesday Morning | In-person @ Shepherd; 9:30 – 11:30am | We begin with large group time to view a message by the author\, and follow with meaningful small group discussion of the lesson. Childcare is available here.\nTuesday Morning | Virtual\nTuesday Evening | In-person @ Shepherd\, 6:30 – 8:00pm\nTuesday Evening | Virtual\n\nWe hope you can join us!
URL:https://sov.church/featuredevent/spring-womens-bible-study/2026-02-03/
LOCATION:Shepherd of the Valley\, 14107 Hudson Rd S\, Afton\, MN\, 55001
CATEGORIES:Groups,Women
ATTACH;FMTTYPE=image/png:https://sov.church/wp-content/uploads/2026/01/TuesAM_spring2026-connect-1.png
ORGANIZER;CN="Kari Kahl":MAILTO:kkahl@sov.church
END:VEVENT
BEGIN:VEVENT
DTSTART;VALUE=DATE:20260421
DTEND;VALUE=DATE:20260422
DTSTAMP:20260421T091938
CREATED:20210208T202546Z
LAST-MODIFIED:20230516T210405Z
UID:10109388-1776729600-1776808799@sov.church
SUMMARY:Subscribe to Church Comms
DESCRIPTION:We want to keep you in the loop about all that is happening at Shepherd! Let us know what kinds of emails you’d like to receive from us and we’ll use this information to make sure we’re only sending you content you’re interested in. Your information will not be shared. \nSelect one or more of the email options:\nWeekly Update | a weekly email with info about church news and activities\nInside Shepherd | a monthly email with a deeper look at teachings\, values\, and operations\nChurchwide Emails | occasional emails regarding funerals and other church business
URL:https://sov.church/featuredevent/subscribe-to-shepherds-weekly-email/2026-04-21/
LOCATION:MN
CATEGORIES:Communications
ATTACH;FMTTYPE=image/png:https://sov.church/wp-content/uploads/2021/02/ChurchEmails-16x9-1.png
ORGANIZER;CN="Linsey Petersen":MAILTO:lpetersen@sov.church
END:VEVENT
BEGIN:VEVENT
DTSTART;TZID=America/Chicago:20260421T170000
DTEND;TZID=America/Chicago:20260421T210000
DTSTAMP:20260421T091938
CREATED:20260318T155750Z
LAST-MODIFIED:20260324T162052Z
UID:10103670-1776790800-1776805200@sov.church
SUMMARY:Young Adult At The Table
DESCRIPTION:Young Adults! Join us on April 21 for a fun\, hands-on evening where we’ll learn how to prepare a delicious meal and dessert\, then enjoy it together! \nWant to cook? We have space for 10 young adults who are excited to jump in and help prepare the meal\, led by Cindy Willmarth!\nPrefer to just hang out? You’re still welcome! Come for fellowship\, games\, and eating the finished meal with us. \n📅 RSVP by clicking REGISTER\, by April 14\n$10 to participate \nWhere: Shepherd of the Valley | Student Kitchen & Gathering Space \nCook Time: 5:00 pm\nDinner & Hangout: 6:00 pm- 9:00pm
URL:https://sov.church/featuredevent/ya-at-the-table/
LOCATION:Shepherd of the Valley\, 14107 Hudson Rd S\, Afton\, MN\, 55001
CATEGORIES:Young Adults
ATTACH;FMTTYPE=image/jpeg:https://sov.church/wp-content/uploads/2026/03/Connect.jpg
ORGANIZER;CN="Kristin Lagus":MAILTO:klagus@sov.church
END:VEVENT
BEGIN:VEVENT
DTSTART;TZID=America/Chicago:20260423T180000
DTEND;TZID=America/Chicago:20260423T203000
DTSTAMP:20260421T091938
CREATED:20260203T140038Z
LAST-MODIFIED:20260324T161304Z
UID:10081450-1776967200-1776976200@sov.church
SUMMARY:Grief Support Group
DESCRIPTION:Shepherd of the Valley is hosting\, in partnership with the St. Croix Valley Grief Coalition\, the six-week Growing Through Loss model\, one of ten in the Twin Cities\, which provides those experiencing loss an opportunity to receive FREE grief support and education. \nGrowing Through Loss is unique in that it addresses various types of loss\, related to death\, divorce or separation\, pregnancy\, care-giver\, health change or disability\, pets\, and more. Each night includes a 45-minute presentation by a grief educator\, followed by facilitated small groups focused on a different loss. Participants may attend a single night or the whole series. \nNo RSVP needed. Simply come and benefit from this free community resource meant to bring healing and connection. More info HERE.
URL:https://sov.church/featuredevent/grief-support-group-2/2026-04-23/
LOCATION:Shepherd of the Valley\, 14107 Hudson Rd S\, Afton\, MN\, 55001
CATEGORIES:Groups,Men,Women
ATTACH;FMTTYPE=image/jpeg:https://sov.church/wp-content/uploads/2026/01/GriefCoalition2026-connect.jpg
ORGANIZER;CN="Kristin Lagus":MAILTO:klagus@sov.church
END:VEVENT
BEGIN:VEVENT
DTSTART;TZID=America/Chicago:20260502T080000
DTEND;TZID=America/Chicago:20260502T093000
DTSTAMP:20260421T091938
CREATED:20250923T162224Z
LAST-MODIFIED:20260331T155334Z
UID:10067453-1777708800-1777714200@sov.church
SUMMARY:Men's Breakfast
DESCRIPTION:You’re invited to the Men’s Prayer Breakfasts on the first Saturday of the month\, 8:00 am to 9:30 am. \nOur theme for this year’s Men’s Breakfast is inspired by Acts 2:42: “They devoted themselves to the apostles’ teaching and to fellowship\, to the breaking of bread and to prayer.” \nWe will dedicate our time together this year in fellowship and in prayer. Our gatherings will include sharing a meal\, spending time in fellowship\, a short teaching on prayer\, practicing and growing together in our prayer lives. \nWe are calling on the men of Shepherd to pray for the congregation to faithfully live out Shepherd’s mission and vision; and to pray specifically that the Holy Spirit will move in and through: \n\nOur Pastors\nOur Staff\nOur congregation\nThose who God brings in our lives who are:\n\nHurting\nVulnerable\nAddicted\nBroken\nGrieving\nLost and in need of hearing the Gospel\n\n\n\nIn addition\, we want to encourage and support one another in prayer to be faithful spiritual leaders. \nPlease RSVP by the Thursday (2 days) before\, so we can plan the amount of food needed.
URL:https://sov.church/featuredevent/mens-breakfast-4/2026-05-02/
LOCATION:Shepherd of the Valley\, 14107 Hudson Rd S\, Afton\, MN\, 55001
CATEGORIES:Groups,Men
ATTACH;FMTTYPE=image/png:https://sov.church/wp-content/uploads/2023/09/MensBreak2023-connect.png
END:VEVENT
BEGIN:VEVENT
DTSTART;TZID=America/Chicago:20260503T091500
DTEND;TZID=America/Chicago:20260503T101500
DTSTAMP:20260421T091938
CREATED:20251117T122734Z
LAST-MODIFIED:20260112T143549Z
UID:10081435-1777799700-1777803300@sov.church
SUMMARY:Engage
DESCRIPTION:Newer to the Shepherd Community? Wondering what to do next? Take 60 minutes to connect\, discover\, and engage! You’ll get to know a few others\, know the heart of Shepherd\, and get to know yourself even better! \nEngage is an informal way to help you take a next step into Shepherd\, coffee & donuts included! \nNo RSVP needed\, see you there! \nSunday\, January 18 | 9:15am\, Shepherd\, Fellowship Rooms (next to the sanctuary)\nSunday\, March 1 | 9:15am\, Shepherd\, Fellowship Rooms\nSunday\, May 3 | 9:15am\, Shepherd\, Fellowship Rooms\nSunday\, July 19 | 9:15am\, Shepherd\, Fellowship Rooms\nSunday\, September 27 | 9:15am\, Shepherd\, Fellowship Rooms\nSunday\, November 15 | 9:15am\, Shepherd\, Fellowship Rooms \nChildcare is available\, both nursery and sovKids ministry\, at every Engage.
URL:https://sov.church/featuredevent/engage-4/2026-05-03/
LOCATION:MN
CATEGORIES:Men,Women,Young Adults
ATTACH;FMTTYPE=image/png:https://sov.church/wp-content/uploads/2022/08/EngageAug2022-connect.png
ORGANIZER;CN="Linsey Petersen":MAILTO:lpetersen@sov.church
END:VEVENT
BEGIN:VEVENT
DTSTART;TZID=America/Chicago:20260503T120000
DTEND;TZID=America/Chicago:20260503T133000
DTSTAMP:20260421T091938
CREATED:20260325T182317Z
LAST-MODIFIED:20260416T190156Z
UID:10103665-1777809600-1777815000@sov.church
SUMMARY:Here I Am Initiative Event
DESCRIPTION:Shepherd of the Valley is embarking on an exciting endeavor in 2026: the Here I Am Initiative!\nThe Here I Am Initiative includes projects to: \n\nrenovate our building\, investing today in our shared spaces so current and future generations can encounter the love of Jesus tomorrow\nmultiply mission partners’ impact\, so they can further their mission\nexpand our heart of generosity\n\nWe invite you to join us for a delicious meal\, engaging conversation\, and an opportunity to partner with us before the official fall launch! \nChoose one of the following options (each one is the same event\, all located at Shepherd): \n\nSunday\, May 3 12:00-1:30pm\nThursday\, June 11 10:00-11:30am\nWednesday\, July 8 5:00-6:30pm\n\nPlease RSVP within three days of the date that works best for you. \nNote: There is no financial request made of any participant at this event itself. The goal is to share about the Here I Am Initiative projects before the official fall kick-off\, and invite you to pray with us about this exciting endeavor!
URL:https://sov.church/featuredevent/here-i-am-generosity-initiative-partner-event/2026-05-03/
LOCATION:Shepherd of the Valley\, 14107 Hudson Rd S\, Afton\, MN\, 55001
CATEGORIES:Communications
ATTACH;FMTTYPE=image/jpeg:https://sov.church/wp-content/uploads/2026/03/1I5A4986_Original-scaled.jpg
ORGANIZER;CN="Linsey Petersen":MAILTO:lpetersen@sov.church
END:VEVENT
BEGIN:VEVENT
DTSTART;VALUE=DATE:20260505
DTEND;VALUE=DATE:20260827
DTSTAMP:20260421T091938
CREATED:20260330T213104Z
LAST-MODIFIED:20260330T213104Z
UID:10107098-1777939200-1787788799@sov.church
SUMMARY:Summer Women's Study
DESCRIPTION:Book: Angels\, by Melissa Spoelstra\nLeader: Diana Hanson\nDuration: 8-session study will run at half-speed for 16 weeks\n \nTwo study options:\n\n\nIn-person: Tuesday mornings\, 9:30 – 11:30 am\, May 5 – August 25 (no meeting June 16)\nVirtual: Wednesday mornings\, 9:30 – 11:30 am\, May 6 – August 26 (no meeting June 17)\n\nAbout the Study: \nIn this 8-session Bible study\, join Melissa Spoelstra as she journeys through Scripture\, from Genesis to Revelation\, to learn about angels—who they are\, what they do\, and what they have to do with you. Angels is a call to put your hope in the God of angel armies who reigns over heaven and earth.
URL:https://sov.church/featuredevent/summer-womens-study/
LOCATION:Shepherd of the Valley\, 14107 Hudson Rd S\, Afton\, MN\, 55001
CATEGORIES:Groups,Women
ATTACH;FMTTYPE=image/jpeg:https://sov.church/wp-content/uploads/2026/03/Sum2026_WomensStudy-connect.jpg
ORGANIZER;CN="Kari Kahl":MAILTO:kkahl@sov.church
END:VEVENT
BEGIN:VEVENT
DTSTART;TZID=America/Chicago:20260521T190000
DTEND;TZID=America/Chicago:20260521T203000
DTSTAMP:20260421T091938
CREATED:20230423T194942Z
LAST-MODIFIED:20241016T203920Z
UID:10003127-1779390000-1779395400@sov.church
SUMMARY:Bibles+Brews
DESCRIPTION:Bibles+Brews is a men’s monthly event designed to invite all men into a conversation about faith and life on the third Thursday of each month. \nWhere: The Bungalow in Lakeland | 7:00-8:30pm \nWant to stay in the loop? Get updates via text!\nText MEN to 651-424-0620 (1-3 texts per month)
URL:https://sov.church/featuredevent/biblesbrews-3/2026-05-21/
LOCATION:MN
CATEGORIES:Men
ATTACH;FMTTYPE=image/png:https://sov.church/wp-content/uploads/2023/04/BibleBrews202310-connect.png
ORGANIZER;CN="Reggie Evans":MAILTO:revans@sov.church
END:VEVENT
BEGIN:VEVENT
DTSTART;TZID=America/Chicago:20260611T100000
DTEND;TZID=America/Chicago:20260611T111500
DTSTAMP:20260421T091938
CREATED:20240927T001747Z
LAST-MODIFIED:20260414T164428Z
UID:10067920-1781172000-1781176500@sov.church
SUMMARY:Senior Cafe
DESCRIPTION:Shepherd Senior Café is a casual time for seniors – men and women who consider themselves seniors\, and those who love and enjoy seniors – to gather for coffee & connection. \nSenior Café takes place every other month on Thursday mornings at Shepherd of the Valley unless otherwise noted. \nWednesday\, Feb 18\, 4:30-5:30pm\nThursday\, Apr 16\, 10:00-11:15am\nThursday\, June 11\, 10:00-11:15am\, Here I Am Partner Event\, please RSVP here\nWednesday\, Aug 19\, Shepherd in the Park\, details TBD \nNo cost\, refreshments will be served and guests are welcome. \nQuestions? Call Kristin Lagus at 651.436.8248
URL:https://sov.church/featuredevent/senior-cafe-5/2026-06-11/
LOCATION:Shepherd of the Valley\, 14107 Hudson Rd S\, Afton\, MN\, 55001
CATEGORIES:Groups,Men,Women
ATTACH;FMTTYPE=image/png:https://sov.church/wp-content/uploads/2024/01/SeniorCafeconnect.png
ORGANIZER;CN="Small Group Team":MAILTO:klagus@sov.church
END:VEVENT
BEGIN:VEVENT
DTSTART;TZID=America/Chicago:20260615T090000
DTEND;TZID=America/Chicago:20260615T120000
DTSTAMP:20260421T091938
CREATED:20260204T210901Z
LAST-MODIFIED:20260204T210901Z
UID:10089449-1781514000-1781524800@sov.church
SUMMARY:Rec Camp 2026
DESCRIPTION:Join us for Rec Camp\, hosted by The Fellowship of Christian Athletes (FCA)! \nRec Camp is a super fun four-day experience at Shepherd of the Valley. In case of rain\, camp will be moved to St. Croix Rec Center in Stillwater or a rain make up day on Friday June 19. \nJune 15 – 18\n9:00am – 12:00pm\nGrades 4 – 8 (2025/2026 school year)\nCost: $40\n \nRegistration closes May 31. \nDo you love helping kids experience the joy of play\, competition\, and large group fun? Are you a fan of sports and Jesus? Let us know HERE you’d like to volunteer at FCA Sports Camp!
URL:https://sov.church/featuredevent/rec-camp-2026/2026-06-15/
LOCATION:Shepherd of the Valley\, 14107 Hudson Rd S\, Afton\, MN\, 55001
CATEGORIES:Serving,sovKids
ATTACH;FMTTYPE=image/png:https://sov.church/wp-content/uploads/2026/02/RecCamp2026-connect.png
ORGANIZER;CN="sovKids":MAILTO:kpruitt@sov.church
END:VEVENT
BEGIN:VEVENT
DTSTART;TZID=America/Chicago:20260615T090000
DTEND;TZID=America/Chicago:20260615T120000
DTSTAMP:20260421T091938
CREATED:20260204T211026Z
LAST-MODIFIED:20260204T211026Z
UID:10089444-1781514000-1781524800@sov.church
SUMMARY:VBS 2026
DESCRIPTION:Rainforest Falls VBS (Vacation Bible School) takes kids on a plunge into a lifelong adventure of discovering the nature of God and finding a safe place in Him. \nJune 15 – 19\n9:00am – 12:00pm\nAge 3 – Grade 3 (2025/2026 school year)\nCost: $45 by May 1; $60 by May 31 \nRegistration closes May 31. \nDo you love helping kids experience Jesus’ love at VBS? Are you good at being patient\, loving\, kind\, and helpful with kids? Let us know HERE you’d like to volunteer at VBS!
URL:https://sov.church/featuredevent/vbs-2026/
LOCATION:Shepherd of the Valley\, 14107 Hudson Rd S\, Afton\, MN\, 55001
CATEGORIES:Serving,sovKids
ATTACH;FMTTYPE=image/png:https://sov.church/wp-content/uploads/2026/02/VBS2026-connect.png
ORGANIZER;CN="sovKids":MAILTO:kpruitt@sov.church
END:VEVENT
BEGIN:VEVENT
DTSTART;VALUE=DATE:20260621
DTEND;VALUE=DATE:20260627
DTSTAMP:20260421T091938
CREATED:20260115T135035Z
LAST-MODIFIED:20260324T161624Z
UID:10053065-1782000000-1782518399@sov.church
SUMMARY:Jr. Circuit Mission Trip
DESCRIPTION:Circuit wants to make a difference. We’re wired for it. Every summer\, our mission trips go out into the world to serve as the hands and feet of Jesus. Jr Circuit (grades 6 – 8) sets out for a destination we can reach within a day’s drive\, visiting multiple sites in the community where we can make a positive impact. We garden and landscape\, organize and freshen cluttered spaces. We work alongside the community to bring hope and reflect the love of Jesus. Sr Circuit (grades 9 – 12) travels a bit further away (usually a 2-day drive)\, and adds on bigger pursuits (think: construction\, painting\, fencing\, deck-building…one year we helped construct a tiny house)! And\, by the way\, these trips are EPIC FUN! Most of our students return for another Circuit mission trip. You’ll make new friends while on worksites or spending a day at the beach\, during amazing worship nights\, while eating ice cream or playing games on the road\, or just hanging out. Here’s a message from Gabby to tell you more. \nThe 2026 Jr Circuit mission trip is headed to Kansas City\, MO to make an impact. Teams will have the chance to engage in both light home repair and relational ministry in this beautifully diverse city. \n\n\nCurrent Grades 6 – 8 \nJune 21-26\, 2026 | Kansas City\, MO \nCost: $625 ($100 non-refundable deposit to reserve a spot) | Make a JR Circuit Mission Trip Payment HERE \n$100 Non-refundable Deposit (due now)\n$275 Due Feb 28\n$250 Due April 30 \nScholarships available here.
URL:https://sov.church/featuredevent/jr-circuit-mission-trip/
LOCATION:Kansas City\, MO
CATEGORIES:Serving,The Circuit
ATTACH;FMTTYPE=image/jpeg:https://sov.church/wp-content/uploads/2026/01/MT2026-JR_Connect.jpg
ORGANIZER;CN="Kari Kahl":MAILTO:kkahl@sov.church
END:VEVENT
BEGIN:VEVENT
DTSTART;VALUE=DATE:20260712
DTEND;VALUE=DATE:20260718
DTSTAMP:20260421T091938
CREATED:20260112T153729Z
LAST-MODIFIED:20260114T190340Z
UID:10081438-1783814400-1784332799@sov.church
SUMMARY:Trout Lake Summer Camp
DESCRIPTION:Experiences like camp can be life-impacting\, even life-changing. Kids have the opportunity to get out of their norm\, to learn new things\, and to be supported by caring older students and adults who want the best for them. \nCamp is a time when kids just get to be kids\, where the noise and pressures of the world are quieted\, where moments of connecting with others and Jesus are expected. \nJoin in the fun! \n\nClick on REGISTER. This link takes you directly to Trout Lake Camps website to sign up. Make sure to choose Week 6: July 12-17. Then select Shepherd of the Valley in the drop-down menu.\nIf you plan to attend camp with Shepherd of the Valley\, you must also complete our WAIVER & TRANSPORTATION form here.\n\nTrout Lake Bible Camp | July 12-17\nWild Woods Completed Grades 1-3\nThe Point Completed Grades 4-6\nTimber Ridge Completed Grades 6-8 \nScholarships available here.\nFundraiser form for grades 1-5.
URL:https://sov.church/featuredevent/trout-lake-summer-camp-3/
LOCATION:Trout Lake Bible Camp\, 10173 Trout Lake Dr\, Pine River\, MN\, 56474
CATEGORIES:sovKids,The Circuit
ATTACH;FMTTYPE=image/jpeg:https://sov.church/wp-content/uploads/2026/01/Trout2026-connect.jpg
ORGANIZER;CN="sovKids":MAILTO:kpruitt@sov.church
END:VEVENT
BEGIN:VEVENT
DTSTART;VALUE=DATE:20260718
DTEND;VALUE=DATE:20260727
DTSTAMP:20260421T091938
CREATED:20260115T135023Z
LAST-MODIFIED:20260324T161601Z
UID:10053064-1784332800-1785110399@sov.church
SUMMARY:Sr. Circuit Mission Trip
DESCRIPTION:Circuit wants to make a difference. We’re wired for it. Every summer\, our mission trips go out into the world to serve as the hands and feet of Jesus. Jr Circuit (grades 6 – 8) sets out for a destination we can reach within a day’s drive\, visiting multiple sites in the community where we can make a positive impact. We garden and landscape\, organize and freshen cluttered spaces. We work alongside the community to bring hope and reflect the love of Jesus. Sr Circuit (grades 9 – 12) travels a bit further away (usually a 2-day drive)\, and adds on bigger pursuits (think: construction\, painting\, fencing\, deck-building…one year we helped construct a tiny house)! And\, by the way\, these trips are EPIC FUN! Most of our students return for another Circuit mission trip. You’ll make new friends while on worksites or spending a day at the beach\, during amazing worship nights\, while eating ice cream or playing games on the road\, or just hanging out. Here’s a message from Gabby to tell you more. \n  \n\nThe 2026 Sr Circuit Mission trip is headed to Elliott County\, Kentucky\, located deep in the Appalachian Range. Students will serve alongside community members to help create and build a spiritual center that will be used as a house of prayer. We’ll work within breathtaking scenery\, serving others through construction\, material repurposing\, landscaping and cultivation of the land.\n\nCurrent Grades 9-12\, space limited\n\nJuly 18-26\, 2026 | Elliott County\, Kentucky\n\nCost: $725 ($100 non-refundable deposit to reserve a spot) | Make a SR Circuit MT Payment HERE \n$100 Non-refundable Deposit paid at time of registration\n$325 Due Feb 28\n$300 Due April 30 \nScholarships available here.
URL:https://sov.church/featuredevent/sr-circuit-mission-trip/
LOCATION:Elliott County\, Kentucky\, KY\, United States
CATEGORIES:Serving,The Circuit
ATTACH;FMTTYPE=image/jpeg:https://sov.church/wp-content/uploads/2026/01/MT2026-SR_Connect.jpg
ORGANIZER;CN="Kari Kahl":MAILTO:kkahl@sov.church
END:VEVENT
BEGIN:VEVENT
DTSTART;TZID=America/Chicago:20260727T183000
DTEND;TZID=America/Chicago:20260727T200000
DTSTAMP:20260421T091938
CREATED:20250821T140423Z
LAST-MODIFIED:20260216T223654Z
UID:10094521-1785177000-1785182400@sov.church
SUMMARY:Baptism & New Member Group
DESCRIPTION:Baptism & New Member Group is a three-week experience designed for participants to connect with one another while discussing the history\, mission\, and values of Shepherd. \nParticipants will identify their next steps of faith and can choose to become members of Shepherd and/or be baptized at completion. If you’re unavailable to attend at least 2 of 3 weeks\, please choose a different session that works better for you. \n2026 options:\n\nSundays February 8\, 15\, 22 12:00-1:30pm\nMondays July 27\, August 3\, 10 6:30-8:00pm\nWednesdays October 21\, 28\, November 4 6:30-8:00pm\n\n*This is a hybrid group\, with those interested in baptism (please also complete Baptism Form here) participating with those interested in membership in large and small group formats.
URL:https://sov.church/featuredevent/baptism-new-member-group-2-2/2026-07-27/
LOCATION:Shepherd of the Valley\, 14107 Hudson Rd S\, Afton\, MN\, 55001
CATEGORIES:Groups,Men,Women,Young Adults
ATTACH;FMTTYPE=image/png:https://sov.church/wp-content/uploads/2023/11/NewMembBapt-connect.png
ORGANIZER;CN="Linsey Petersen":MAILTO:lpetersen@sov.church
END:VEVENT
BEGIN:VEVENT
DTSTART;VALUE=DATE:20260801
DTEND;VALUE=DATE:20260809
DTSTAMP:20260421T091938
CREATED:20260310T163818Z
LAST-MODIFIED:20260324T160926Z
UID:10100855-1785542400-1786233599@sov.church
SUMMARY:Baja Mission Trip
DESCRIPTION:Join a Shepherd team on a mission trip to Baja California\, Mexico this summer! Participants will have the opportunity to serve at different orphanages throughout Baja. Serving options will likely include both construction and relational ministry. \nApplications are due by April 15; click REGISTER for more details. \nSaturday\, August 1 to Saturday\, August 8\nBaja California\, Mexico \n*exact price TBD due to airfare costs
URL:https://sov.church/featuredevent/baja-mission-trip/
LOCATION:Baja California\, Mexico
CATEGORIES:Serving
ATTACH;FMTTYPE=image/png:https://sov.church/wp-content/uploads/2026/03/Baja2026Connect.png
ORGANIZER;CN="Caitlin Ronayne":MAILTO:cronayne@sov.church
END:VEVENT
END:VCALENDAR